Workbook

Sheet README
A1: IAM Cost Submission - Bulk Template
A3: User Notes:
A4: Fields highlighted in blue require user input.
A5: Enter "*" in Project Unit Code to apply the cost to all Units under the selected Project. The amount will be recorded against each Unit.
A6: Leave Project Unit Code blank to record the cost at the Project level only (not against any specific Unit).
A7: Category is automatically populated based on the selected Nature and cannot be edited.
A8: Invoice Net Amount is mandatory. Invoice Gross Amount is automatically calculated as Invoice Net Amount × (1 + VAT %).
A9: VAT (%) defaults to 0 if not entered.
A10: Invoice No. and Invoice Date are optional.
A11: Settlement Due Date is required only when Payment Mode = Finance Settlement.
A12: If Payment Mode = Already Autopaid, all bank information fields are optional.

Sheet Bulk Units
A1: Project Code | B1: Project Unit Code | C1: Category | D1: Nature | E1: Vendor Name | F1: Start Date | G1: End Date | H1: Invoice Date | I1: Invoice No | J1: Settlement Due Date | K1: Invoice Net Amount | L1: VAT (%) | M1: Invoice Gross Amount | N1: Settlement Amount | O1: Currency | P1: Payment Mode | Q1: Note | R1: Attachment URL | S1: Bank Name | T1: Account Name | U1: Account Number | V1: SWIFT Code | W1: Sort Code | X1: IBAN
A2: NE9 | B2: * | C2: =IF(_xlfn.XLOOKUP(D2,'Opex & Nature Ref'!C:C,'Opex & Nature Ref'!B:B)="","",_xlfn.XLOOKUP(D2,'Opex & Nature Ref'!C:C,'Opex & Nature Ref'!B:B)) | D2: Insurance | E2: Sample Vendor | F2: 45907 | G2: 45907 | H2: 45907 | I2: QT2201497 | J2: 45907 | K2: 1500 | L2: 0 | M2: =ROUND(K2*(1+IF(L2>1,L2/100,L2)),2) | N2: 1500 | O2: THB | P2: Finance Settlement | Q2: 0 | R2: 0 | S2: Bank A | T2: Account Name A | U2: 123415129 | V2: 0 | W2: 0 | X2: 0
A3: NMB | B3: NMB 17A21 | C3: =IF(_xlfn.XLOOKUP(D3,'Opex & Nature Ref'!C:C,'Opex & Nature Ref'!B:B)="","",_xlfn.XLOOKUP(D3,'Opex & Nature Ref'!C:C,'Opex & Nature Ref'!B:B)) | D3: Furniture / Equipment | E3: Sample Vendor | F3: 46269 | G3: 46269 | H3: 46269 | I3: INV1234502 | J3: 46269 | K3: 100000 | L3: 0.07 | M3: =ROUND(K3*(1+IF(L3>1,L3/100,L3)),2) | N3: 107000 | O3: THB | P3: Already Autopaid | Q3: 0 | R3: https://sharepoint.com/file.pdf | S3: Kasikorn Bank | T3: Akra Co.,Ltd. | U3: 928165302 | V3: KASITHBK | W3: 0 | X3: 0
C4: =IF(_xlfn.XLOOKUP(D4,'Opex & Nature Ref'!C:C,'Opex & Nature Ref'!B:B)="","",_xlfn.XLOOKUP(D4,'Opex & Nature Ref'!C:C,'Opex & Nature Ref'!B:B)) | M4: =ROUND(K4*(1+IF(L4>1,L4/100,L4)),2)
C5: =IF(_xlfn.XLOOKUP(D5,'Opex & Nature Ref'!C:C,'Opex & Nature Ref'!B:B)="","",_xlfn.XLOOKUP(D5,'Opex & Nature Ref'!C:C,'Opex & Nature Ref'!B:B)) | M5: =ROUND(K5*(1+IF(L5>1,L5/100,L5)),2)
C6: =IF(_xlfn.XLOOKUP(D6,'Opex & Nature Ref'!C:C,'Opex & Nature Ref'!B:B)="","",_xlfn.XLOOKUP(D6,'Opex & Nature Ref'!C:C,'Opex & Nature Ref'!B:B)) | M6: =ROUND(K6*(1+IF(L6>1,L6/100,L6)),2)
C7: =IF(_xlfn.XLOOKUP(D7,'Opex & Nature Ref'!C:C,'Opex & Nature Ref'!B:B)="","",_xlfn.XLOOKUP(D7,'Opex & Nature Ref'!C:C,'Opex & Nature Ref'!B:B)) | M7: =ROUND(K7*(1+IF(L7>1,L7/100,L7)),2)
C8: =IF(_xlfn.XLOOKUP(D8,'Opex & Nature Ref'!C:C,'Opex & Nature Ref'!B:B)="","",_xlfn.XLOOKUP(D8,'Opex & Nature Ref'!C:C,'Opex & Nature Ref'!B:B)) | M8: =ROUND(K8*(1+IF(L8>1,L8/100,L8)),2)
C9: =IF(_xlfn.XLOOKUP(D9,'Opex & Nature Ref'!C:C,'Opex & Nature Ref'!B:B)="","",_xlfn.XLOOKUP(D9,'Opex & Nature Ref'!C:C,'Opex & Nature Ref'!B:B)) | M9: =ROUND(K9*(1+IF(L9>1,L9/100,L9)),2)
C10: =IF(_xlfn.XLOOKUP(D10,'Opex & Nature Ref'!C:C,'Opex & Nature Ref'!B:B)="","",_xlfn.XLOOKUP(D10,'Opex & Nature Ref'!C:C,'Opex & Nature Ref'!B:B)) | M10: =ROUND(K10*(1+IF(L10>1,L10/100,L10)),2)
C11: =IF(_xlfn.XLOOKUP(D11,'Opex & Nature Ref'!C:C,'Opex & Nature Ref'!B:B)="","",_xlfn.XLOOKUP(D11,'Opex & Nature Ref'!C:C,'Opex & Nature Ref'!B:B)) | M11: =ROUND(K11*(1+IF(L11>1,L11/100,L11)),2)
C12: =IF(_xlfn.XLOOKUP(D12,'Opex & Nature Ref'!C:C,'Opex & Nature Ref'!B:B)="","",_xlfn.XLOOKUP(D12,'Opex & Nature Ref'!C:C,'Opex & Nature Ref'!B:B)) | M12: =ROUND(K12*(1+IF(L12>1,L12/100,L12)),2)
C13: =IF(_xlfn.XLOOKUP(D13,'Opex & Nature Ref'!C:C,'Opex & Nature Ref'!B:B)="","",_xlfn.XLOOKUP(D13,'Opex & Nature Ref'!C:C,'Opex & Nature Ref'!B:B)) | M13: =ROUND(K13*(1+IF(L13>1,L13/100,L13)),2)
C14: =IF(_xlfn.XLOOKUP(D14,'Opex & Nature Ref'!C:C,'Opex & Nature Ref'!B:B)="","",_xlfn.XLOOKUP(D14,'Opex & Nature Ref'!C:C,'Opex & Nature Ref'!B:B)) | M14: =ROUND(K14*(1+IF(L14>1,L14/100,L14)),2)
C15: =IF(_xlfn.XLOOKUP(D15,'Opex & Nature Ref'!C:C,'Opex & Nature Ref'!B:B)="","",_xlfn.XLOOKUP(D15,'Opex & Nature Ref'!C:C,'Opex & Nature Ref'!B:B)) | M15: =ROUND(K15*(1+IF(L15>1,L15/100,L15)),2)
... C20: =IF(_xlfn.XLOOKUP(D20,'Opex & Nature Ref'!C:C,'Opex & Nature Ref'!B:B)="","",_xlfn.XLOOKUP(D20,'Opex & Nature Ref'!C:C,'Opex & Nature Ref'!B:B)) | M20: =ROUND(K20*(1+IF(L20>1,L20/100,L20)),2)
C21: =IF(_xlfn.XLOOKUP(D21,'Opex & Nature Ref'!C:C,'Opex & Nature Ref'!B:B)="","",_xlfn.XLOOKUP(D21,'Opex & Nature Ref'!C:C,'Opex & Nature Ref'!B:B)) | M21: =IF(H21="","",ROUND(H21*(1+IF(OR(I21="",I21=0),0,IF(I21>1,I21/100,I21))),2))
C22: =IF(_xlfn.XLOOKUP(D22,'Opex & Nature Ref'!C:C,'Opex & Nature Ref'!B:B)="","",_xlfn.XLOOKUP(D22,'Opex & Nature Ref'!C:C,'Opex & Nature Ref'!B:B)) | M22: =IF(H22="","",ROUND(H22*(1+IF(OR(I22="",I22=0),0,IF(I22>1,I22/100,I22))),2))
C23: =IF(_xlfn.XLOOKUP(D23,'Opex & Nature Ref'!C:C,'Opex & Nature Ref'!B:B)="","",_xlfn.XLOOKUP(D23,'Opex & Nature Ref'!C:C,'Opex & Nature Ref'!B:B)) | M23: =IF(H23="","",ROUND(H23*(1+IF(OR(I23="",I23=0),0,IF(I23>1,I23/100,I23))),2))
C24: =IF(_xlfn.XLOOKUP(D24,'Opex & Nature Ref'!C:C,'Opex & Nature Ref'!B:B)="","",_xlfn.XLOOKUP(D24,'Opex & Nature Ref'!C:C,'Opex & Nature Ref'!B:B)) | M24: =IF(H24="","",ROUND(H24*(1+IF(OR(I24="",I24=0),0,IF(I24>1,I24/100,I24))),2))
C25: =IF(_xlfn.XLOOKUP(D25,'Opex & Nature Ref'!C:C,'Opex & Nature Ref'!B:B)="","",_xlfn.XLOOKUP(D25,'Opex & Nature Ref'!C:C,'Opex & Nature Ref'!B:B)) | M25: =IF(H25="","",ROUND(H25*(1+IF(OR(I25="",I25=0),0,IF(I25>1,I25/100,I25))),2))
C26: =IF(_xlfn.XLOOKUP(D26,'Opex & Nature Ref'!C:C,'Opex & Nature Ref'!B:B)="","",_xlfn.XLOOKUP(D26,'Opex & Nature Ref'!C:C,'Opex & Nature Ref'!B:B)) | M26: =IF(H26="","",ROUND(H26*(1+IF(OR(I26="",I26=0),0,IF(I26>1,I26/100,I26))),2))
C27: =IF(_xlfn.XLOOKUP(D27,'Opex & Nature Ref'!C:C,'Opex & Nature Ref'!B:B)="","",_xlfn.XLOOKUP(D27,'Opex & Nature Ref'!C:C,'Opex & Nature Ref'!B:B)) | M27: =IF(H27="","",ROUND(H27*(1+IF(OR(I27="",I27=0),0,IF(I27>1,I27/100,I27))),2))
C28: =IF(_xlfn.XLOOKUP(D28,'Opex & Nature Ref'!C:C,'Opex & Nature Ref'!B:B)="","",_xlfn.XLOOKUP(D28,'Opex & Nature Ref'!C:C,'Opex & Nature Ref'!B:B)) | M28: =IF(H28="","",ROUND(H28*(1+IF(OR(I28="",I28=0),0,IF(I28>1,I28/100,I28))),2))
C29: =IF(_xlfn.XLOOKUP(D29,'Opex & Nature Ref'!C:C,'Opex & Nature Ref'!B:B)="","",_xlfn.XLOOKUP(D29,'Opex & Nature Ref'!C:C,'Opex & Nature Ref'!B:B)) | M29: =IF(H29="","",ROUND(H29*(1+IF(OR(I29="",I29=0),0,IF(I29>1,I29/100,I29))),2))
C30: =IF(_xlfn.XLOOKUP(D30,'Opex & Nature Ref'!C:C,'Opex & Nature Ref'!B:B)="","",_xlfn.XLOOKUP(D30,'Opex & Nature Ref'!C:C,'Opex & Nature Ref'!B:B)) | M30: =IF(H30="","",ROUND(H30*(1+IF(OR(I30="",I30=0),0,IF(I30>1,I30/100,I30))),2))
C31: =IF(_xlfn.XLOOKUP(D31,'Opex & Nature Ref'!C:C,'Opex & Nature Ref'!B:B)="","",_xlfn.XLOOKUP(D31,'Opex & Nature Ref'!C:C,'Opex & Nature Ref'!B:B)) | M31: =IF(H31="","",ROUND(H31*(1+IF(OR(I31="",I31=0),0,IF(I31>1,I31/100,I31))),2))
C32: =IF(_xlfn.XLOOKUP(D32,'Opex & Nature Ref'!C:C,'Opex & Nature Ref'!B:B)="","",_xlfn.XLOOKUP(D32,'Opex & Nature Ref'!C:C,'Opex & Nature Ref'!B:B)) | M32: =IF(H32="","",ROUND(H32*(1+IF(OR(I32="",I32=0),0,IF(I32>1,I32/100,I32))),2))
... C101: =IF(_xlfn.XLOOKUP(D101,'Opex & Nature Ref'!C:C,'Opex & Nature Ref'!B:B)="","",_xlfn.XLOOKUP(D101,'Opex & Nature Ref'!C:C,'Opex & Nature Ref'!B:B)) | M101: =IF(H101="","",ROUND(H101*(1+IF(OR(I101="",I101=0),0,IF(I101>1,I101/100,I101))),2))
C102: =IF(_xlfn.XLOOKUP(D102,'Opex & Nature Ref'!C:C,'Opex & Nature Ref'!B:B)="","",_xlfn.XLOOKUP(D102,'Opex & Nature Ref'!C:C,'Opex & Nature Ref'!B:B))
C103: =IF(_xlfn.XLOOKUP(D103,'Opex & Nature Ref'!C:C,'Opex & Nature Ref'!B:B)="","",_xlfn.XLOOKUP(D103,'Opex & Nature Ref'!C:C,'Opex & Nature Ref'!B:B))
C104: =IF(_xlfn.XLOOKUP(D104,'Opex & Nature Ref'!C:C,'Opex & Nature Ref'!B:B)="","",_xlfn.XLOOKUP(D104,'Opex & Nature Ref'!C:C,'Opex & Nature Ref'!B:B))
C105: =IF(_xlfn.XLOOKUP(D105,'Opex & Nature Ref'!C:C,'Opex & Nature Ref'!B:B)="","",_xlfn.XLOOKUP(D105,'Opex & Nature Ref'!C:C,'Opex & Nature Ref'!B:B))
C106: =IF(_xlfn.XLOOKUP(D106,'Opex & Nature Ref'!C:C,'Opex & Nature Ref'!B:B)="","",_xlfn.XLOOKUP(D106,'Opex & Nature Ref'!C:C,'Opex & Nature Ref'!B:B))
C107: =IF(_xlfn.XLOOKUP(D107,'Opex & Nature Ref'!C:C,'Opex & Nature Ref'!B:B)="","",_xlfn.XLOOKUP(D107,'Opex & Nature Ref'!C:C,'Opex & Nature Ref'!B:B))
C108: =IF(_xlfn.XLOOKUP(D108,'Opex & Nature Ref'!C:C,'Opex & Nature Ref'!B:B)="","",_xlfn.XLOOKUP(D108,'Opex & Nature Ref'!C:C,'Opex & Nature Ref'!B:B))
C109: =IF(_xlfn.XLOOKUP(D109,'Opex & Nature Ref'!C:C,'Opex & Nature Ref'!B:B)="","",_xlfn.XLOOKUP(D109,'Opex & Nature Ref'!C:C,'Opex & Nature Ref'!B:B))
C110: =IF(_xlfn.XLOOKUP(D110,'Opex & Nature Ref'!C:C,'Opex & Nature Ref'!B:B)="","",_xlfn.XLOOKUP(D110,'Opex & Nature Ref'!C:C,'Opex & Nature Ref'!B:B))
C111: =IF(_xlfn.XLOOKUP(D111,'Opex & Nature Ref'!C:C,'Opex & Nature Ref'!B:B)="","",_xlfn.XLOOKUP(D111,'Opex & Nature Ref'!C:C,'Opex & Nature Ref'!B:B))
C112: =IF(_xlfn.XLOOKUP(D112,'Opex & Nature Ref'!C:C,'Opex & Nature Ref'!B:B)="","",_xlfn.XLOOKUP(D112,'Opex & Nature Ref'!C:C,'Opex & Nature Ref'!B:B))
...

Sheet Opex & Nature Ref
B3: Category | C3: Nature
B4: Capex | C4: Furniture / Equipment
B5: Acq | C5: Acquisition - Legal Fee
B6: Acq | C6: Acquisition - Disbursements
B7: Acq | C7: Acquisition - Land Registry Fees
B8: Acq | C8: Acquisition - SDLT
B9: Acq | C9: Acquisition - Others
B10: Sales | C10: Disposal - Legal Fee
B11: Sales | C11: Disposal - Disbursements
B12: Sales | C12: Disposal - Commission
B13: Sales | C13: Disposal - Management Pack/ Landlord Pack/ Legal Pack
B14: Sales | C14: Incentives & Rebates
... B30: Other | C30: Others
